BEGIN:VCALENDAR
VERSION:2.0
CALSCALE:GREGORIAN
PRODID:-//MyApp//Calendar 1.0//EN
BEGIN:VEVENT
METHOD:PUBLISH
UID:50088@regionalniportaly.cz
DTSTAMP:20260424T111324Z
DTSTART;VALUE=DATE:20250221
DTEND;VALUE=DATE:20250222
SUMMARY:Trombenik //Anděl Music Bar
DESCRIPTION:Trombenik konečně opět zavítá do Plzně - tentokrát do Anděl Music Baru!Smršť klezmerové\, balkánské a cigánské hudby Trombenik spustí v pátek 21. února v 20\,30 hodin.Těšíme se na Vás\,Váš klezmer band Trombenikwww.trombenik.cz
LOCATION:Plzeň
END:VEVENT
END:VCALENDAR