BEGIN:VCALENDAR
VERSION:2.0
CALSCALE:GREGORIAN
PRODID:-//MyApp//Calendar 1.0//EN
BEGIN:VEVENT
METHOD:PUBLISH
UID:50081@regionalniportaly.cz
DTSTAMP:20260424T174432Z
DTSTART;VALUE=DATE:20250207
DTEND;VALUE=DATE:20250208
SUMMARY:Groove Army: ROYAL SQUAD MIKKIM & Dave Trumpeer
DESCRIPTION:Originální Drum &amp\; Groove Party v klubovém srdci Plzně!Zažij sílu Groove Army na indoorovém pódiu\, kde před beaty není kam uhnout!______________________________________________________________________Bubenický projekt Groove Army přesahuje několik hudebních žánrů a aspiruje tak spíše na audiovizuální show nadnárodního formátu\, než na formu klasického koncertu.Leader Tokhi při tvorbě této show čerpal ze svých celoživotních zkušenosti z muziky a cest s hudbou po většině kontinentů naší krásné planety. Royal Squad je výsostným představením toho nejlepšího\, co si kdy dokázala Groove Army vysnít.Součástí provedení každého koncertu je působivé intro\, masky\, nádherné kostýmy a vyladěná scéna. Mimo bubenické smršti na klasické nástroje této kapely se představí i koncertní bicí sada\, DJ set\, obří gong\, nebo barely\, které zaplní celou stage. Tohle se musí zažít.Konec her\, G.A.R.S.\, bílé masky a intenzivní beaty zasazené do moderních aranží\, vyrazí divákům dech.We are the Groove Army.We are the Royal Squad.We are you\, you are us.______________________________________________________________________Producent a DJ MikkiM je skutečným průkopníkem propojení hudebních stylů. Jeho energií nabitá hudba a nekompromisní djské sety dostávají do varu fanoušky napříč žánry po celém světě.Vydal šest dlouhohrajících desek\, spoustu vinylů a nepočítaně digitálních singlů. Za své druhé album Offbeat Rhapsody\, z části nahrávané v Kingstonu na Jamajce\, získal nejvyšší možné domácí ocenění\, a sice cenu Anděl za album roku 2012.Z úspěchu alba těžil i nadále a jako historicky první český DJ byl v roce 2013 pozván i na jeden z nejprestižnějších světových festivalů Glastonbury.MikkiM si zahrál již ve většině evropských zemí i na americkém kontinentu\, častokrát jako headliner klubových nocí nebo festivalů\, za sebou má vystoupení na zahraničních festivalech jako Boomtown Fair\, Burning Man a mnoha jiných.Můžete si být jisti jedním. Na parketu se pořádně zapotíte! V Andělu ho uvidíte s muzikantem Davem Trumpeteerem\, který vystoupení okoření zpěvem a hraním na trubku.
LOCATION:Plzeň
END:VEVENT
END:VCALENDAR