BEGIN:VCALENDAR
VERSION:2.0
CALSCALE:GREGORIAN
PRODID:-//MyApp//Calendar 1.0//EN
BEGIN:VEVENT
METHOD:PUBLISH
UID:50080@regionalniportaly.cz
DTSTAMP:20260424T185533Z
DTSTART;VALUE=DATE:20250205
DTEND;VALUE=DATE:20250206
SUMMARY:WWW NEUROBEAT // Anděl Music Bar
DESCRIPTION:Po dlouhých 6ti letech se WWW Neurobeat vracejí s novou deskou.Jen pár dní po jejím křtu v Praze se objeví s deskou Zasej obojky a sklidíš psy u nás v Anděl music baru.Hudba WWW originálně slučuje postupy hiphopu\, industriálu\, elektroniky a volné skladby. Texty Lubomíra Typlta provokují posluchače\, aby namáhal svou představovivost\, jejich naléhavost umocňuje široká škála básnických a fonetických prostředků. Texty Ondřeje Anděry využívají rytmické možnosti jazyka v abstraktní rovině.WWW vydali tři studiová alba\, oceňovaná kritikou v ČR i na Slovensku. Byli nominováni na několik hudebních cen – například Anděl a získali prestižní uměleckou cenu Revolver Revue. Byli také několikrát headlinery velkých hudebních festivalů v Čechách a na Slovensku (například Colours of Ostrava\, Pohoda Festival). Kapela reprezentovala české kulturní zázemí pro Česká centra na Slovensku\, v Polsku\, v Bulharsku\, v Holandsku\, ve Francii a koncertovala také v USA\, Švýcarsku nebo v Belgii.
LOCATION:Plzeň
END:VEVENT
END:VCALENDAR