BEGIN:VCALENDAR
VERSION:2.0
CALSCALE:GREGORIAN
PRODID:-//MyApp//Calendar 1.0//EN
BEGIN:VEVENT
METHOD:PUBLISH
UID:49822@regionalniportaly.cz
DTSTAMP:20260424T134806Z
DTSTART;VALUE=DATE:20250125
DTEND;VALUE=DATE:20250126
SUMMARY:TURBO revival
DESCRIPTION:Přijde přivítat rok 2025 k nám do Hospůdky u Ženíšků\, Červený Hrádek.Připravili jsme pro Vás skvělou hudbu v podání kapely Turbo.Užijte si večer plný hudby …
LOCATION:Plzeň
END:VEVENT
END:VCALENDAR