BEGIN:VCALENDAR
VERSION:2.0
CALSCALE:GREGORIAN
PRODID:-//MyApp//Calendar 1.0//EN
BEGIN:VEVENT
METHOD:PUBLISH
UID:49697@regionalniportaly.cz
DTSTAMP:20260424T134826Z
DTSTART;VALUE=DATE:20250329
DTEND;VALUE=DATE:20250330
SUMMARY:Totální nasazení a Vision Days - TOTAL DAYS TOUR 2025
DESCRIPTION:TOTAL DAYS TOUR 2025&nbsp\;kapel&nbsp\;Totální nasazení&nbsp\;a&nbsp\;Vision Days.Support:&nbsp\;Deratizéři&nbsp\;
LOCATION:Plzeň
END:VEVENT
END:VCALENDAR