BEGIN:VCALENDAR
VERSION:2.0
CALSCALE:GREGORIAN
PRODID:-//MyApp//Calendar 1.0//EN
BEGIN:VEVENT
METHOD:PUBLISH
UID:49641@regionalniportaly.cz
DTSTAMP:20260425T011821Z
DTSTART;VALUE=DATE:20250410
DTEND;VALUE=DATE:20250411
SUMMARY:Porta Inferi - Síla je v nás 2025 tour
DESCRIPTION:Porta Inferi není žádným nováčkem na české metalové scéně a brázdí rockové vody už více než 15 let. Tentokrát vyjíždí poprvé na své samostatné turné po českých končinách. Tour obsahuje 8 zastávek po CZ a SK\, tak neváhejte a kupte si vstupenku v předprodeji!&nbsp\; Na tour zazní jak současné hity kapely\, které znáte z rádia\, ale také méně známé hity\, které kapela běžně nehraje + pár novinek z chystané desky. Skvělá a energická show kapely je samozřejmostí..Kapela:Mirek Andrássy - kytaraRadim Korbel - zpěvJan Noga - kytaraJan Rušikvas - bicíTomáš Magnusek - basa
LOCATION:Plzeň
END:VEVENT
END:VCALENDAR