BEGIN:VCALENDAR
VERSION:2.0
CALSCALE:GREGORIAN
PRODID:-//MyApp//Calendar 1.0//EN
BEGIN:VEVENT
METHOD:PUBLISH
UID:49475@regionalniportaly.cz
DTSTAMP:20260424T151629Z
DTSTART;VALUE=DATE:20250131
DTEND;VALUE=DATE:20250201
SUMMARY:Vlasta Horváth / Plzeň / Anděl music bar
DESCRIPTION:Zpěvák\, skladatel a multiinstrumentalista Vlasta Horváth\, jehož jméno je spojeno s vítězstvím ve druhé řadě soutěže Česko hledá SuperStar\, přijede se svou kapelou do plzeňského Anděl Music Baru\, kde zároveň odstartují své turné s názvem „Pocity planý“. Tento název se váže k jeho novému singlu\, který na tomto turné představí. Vlasta svým odhodláním a přístupem k hudební tvorbě dosáhl díky své osobnosti respektu jak u publika\, tak i v českém showbyznysu. Důkazem je jeho již téměř dvacetileté působení na hudební scéně.
LOCATION:Plzeň
END:VEVENT
END:VCALENDAR