BEGIN:VCALENDAR
VERSION:2.0
CALSCALE:GREGORIAN
PRODID:-//MyApp//Calendar 1.0//EN
BEGIN:VEVENT
METHOD:PUBLISH
UID:49470@regionalniportaly.cz
DTSTAMP:20260424T225354Z
DTSTART;VALUE=DATE:20250506
DTEND;VALUE=DATE:20250507
SUMMARY:Jsme Zločinožrouti Tour - Plzeň
DESCRIPTION:Připrav se na večer plný true crime příběhů a černého humoru. Od dubna do června 2025 jedeme na tour do 12 měst – Praha\, Brno\, Ostrava\, Olomouc\, Pardubice\, Plzeň\, Jihlava\, Ústí nad Labem\, České Budějovice\, Karlovy Vary\, Liberec a Bratislava.Po roční pauze a nezapomenutelné O2 areně se vracíme k původnímu konceptu a vyrážíme opět za vámi\, jak jste zvyklí.více na&nbsp\;www.opravdovezlociny.cz/vstupenky
LOCATION:Plzeň
END:VEVENT
END:VCALENDAR