BEGIN:VCALENDAR
VERSION:2.0
CALSCALE:GREGORIAN
PRODID:-//MyApp//Calendar 1.0//EN
BEGIN:VEVENT
METHOD:PUBLISH
UID:49328@regionalniportaly.cz
DTSTAMP:20260424T094552Z
DTSTART;VALUE=DATE:20250105
DTEND;VALUE=DATE:20250106
SUMMARY:Stronger tour: Petr Špaček & band
DESCRIPTION:Petr Špaček vydává nové album "STRONGER”. První koncert k novému albu v rámci STRONGER tour proběhne 5.1.2025 v Plzni\, v Měšťanské besedě. 
LOCATION:Plzeň
END:VEVENT
END:VCALENDAR