BEGIN:VCALENDAR
VERSION:2.0
CALSCALE:GREGORIAN
PRODID:-//MyApp//Calendar 1.0//EN
BEGIN:VEVENT
METHOD:PUBLISH
UID:49281@regionalniportaly.cz
DTSTAMP:20260424T095331Z
DTSTART;VALUE=DATE:20250118
DTEND;VALUE=DATE:20250119
SUMMARY:Cumbia Cooperativa
DESCRIPTION:Kapela hraje převážně populární a folklórní latino písně. Čerpá inspiraci z Latinské Ameriky\, kde má své kořeny. Většina členů kapely pochází právě z této části světa. Mají odehráno velké množství koncertů na festivalech\, slavnostech a jiných kulturních akcích.Nechte se hýčkat na vlnách Latinské Ameriky. Z jejich oblíbených žánrů je nejdůležitější La Cumbia\, dokonalý mix mezi afro-karibskými perkusemi a domorodými melodiemi\, který vás nutí nevědomě tančit\, charakterizovaný cvalem güiry a sametovými beaty conga a tumbadera.V celé produkci jsou také vůně dalších karibských rytmů\, jako je salsa a merengue\, které jsou kongeniální s horskými vůněmi tropických andských rytmů\, jako je chicha a huayno.Se třemi studiovými alby La Nueva Era (2019)\, Wena Washo (2020) a Yawar Fiesta (2021) vystoupila Cumbia Cooperativa na mnoha českých i zahraničních festivalech.
LOCATION:Plzeň
END:VEVENT
END:VCALENDAR