BEGIN:VCALENDAR
VERSION:2.0
CALSCALE:GREGORIAN
PRODID:-//MyApp//Calendar 1.0//EN
BEGIN:VEVENT
METHOD:PUBLISH
UID:49212@regionalniportaly.cz
DTSTAMP:20260424T100458Z
DTSTART;VALUE=DATE:20250119
DTEND;VALUE=DATE:20250120
SUMMARY:Culinka Karneval 2025 I Radobyčice
DESCRIPTION:Sokolovna RadobyčiceTJ Sokol RadobyčiceZábavné odpoledne pro celou rodinu.Občerstvení zajištěno.Dvě hodiny plné tancování\, písniček\, radosti\, soutěží a her s Culinkou\, její kamarádkou bramborou Barborou a se skřítkem Popletou.Balonky\, bublinky\, bonbóny a bláznivé blbnutí bude bomba!!!&nbsp\;Masky s sebou!!!!
LOCATION:Plzeň
END:VEVENT
END:VCALENDAR