BEGIN:VCALENDAR
VERSION:2.0
CALSCALE:GREGORIAN
PRODID:-//MyApp//Calendar 1.0//EN
BEGIN:VEVENT
METHOD:PUBLISH
UID:49192@regionalniportaly.cz
DTSTAMP:20260424T211901Z
DTSTART;VALUE=DATE:20250214
DTEND;VALUE=DATE:20250215
SUMMARY:Teenage Dream Party - Plzeň
DESCRIPTION:TEENAGE DREAM PARTY POPRVÉ V PLZNI!🎉Už 14.2. se vidíme v Aréna Plzeň s naší pohádkovou párty!Přijď si užít jedinečný večer plný nostalgie\, hudby a zábavy.💃🏻&nbsp\;Teenage Dream Party&nbsp\;není jen obyčejná párty. Je to jedinečná příležitost vrátit se zpátky do našich mladých let\, kdy jsme s nadšením sledovali Disney pohádky a seriály. Připravili jsme pro vás mix těch nejznámějších písniček z Disney filmů\, které nás provázeli během našich dětských let.⭐️&nbsp\;Celý večer vás bude doprovázet nejen hudba\, ale i videoklipy a záběry z těchto ikonických pohádek a seriálů\, které budeme promítat na plátno za naším DJem.🎥&nbsp\;Klub bude otevřený od 20:00\, ve 21:00 začínají&nbsp\;Disney Hity&nbsp\;s videoprojekcí.🪩&nbsp\;🎁VIP vstupenka obsahuje přednostní vstup\, VIP prostor s vlastním barem\, posezením a Disney dáreček!&nbsp\;🎁&nbsp\;MŮŽEŠ SE TĚŠIT NA:- videoprojekci🎥- fotoreport📸- tématickou&nbsp\;výzdobu🐭- světelné efekty🎇- tematické drinky🍹- VIP Disney dárky🎁- skvělou atmosféru🪩&nbsp\;INFO:14.2.2025📅&nbsp\;Aréna Plzeň - Lidická 33\, 323 00 Plzeň 1📍&nbsp\;OPEN:&nbsp\;20:00⏰START:&nbsp\;21:00🏁Věk: 15+✅&nbsp\;
LOCATION:Plzeň
END:VEVENT
END:VCALENDAR