BEGIN:VCALENDAR
VERSION:2.0
CALSCALE:GREGORIAN
PRODID:-//MyApp//Calendar 1.0//EN
BEGIN:VEVENT
METHOD:PUBLISH
UID:49186@regionalniportaly.cz
DTSTAMP:20260424T162743Z
DTSTART;VALUE=DATE:20250125
DTEND;VALUE=DATE:20250126
SUMMARY:Svatební korzování 2025
DESCRIPTION:Svatební korzování - jedinečný a moderní svatební veletrh\, který vás zavede do světa svatebních trendů a novinek.&nbsp\;Veletrh pořádá zkušená svatební koordinátorka&nbsp\;Svatby od Luc\, která čerpá inspiraci a ověřuje hned několik dodavatelů každý týden na svatbách\, které pořádá.Korzování se pyšní bohatým výběrem dodavatelů ze všech svatebních kategorií. Užijte si představení dodavatelů\, přehlídky svatebních šatů a pánských obleků\, vychutnejte si lahodné cappuccino (nebo prosecco) a nechte se vtáhnout do atmosféry ukázkami živé hudby. Poslechnout si můžete i přednášky plné inspirace a získat tak užitečné tipy pro váš dokonalý svatební den! #korzujeme
LOCATION:Plzeň
END:VEVENT
END:VCALENDAR