BEGIN:VCALENDAR
VERSION:2.0
CALSCALE:GREGORIAN
PRODID:-//MyApp//Calendar 1.0//EN
BEGIN:VEVENT
METHOD:PUBLISH
UID:48832@regionalniportaly.cz
DTSTAMP:20260424T162520Z
DTSTART;VALUE=DATE:20250201
DTEND;VALUE=DATE:20250202
SUMMARY:ZOOBLASTERS / Anděl Music Bar
DESCRIPTION:Hrát v Plzni je pro nás skoro jako hrát doma. Proto se připravte na party\, protože 1.2.2025 se vracíme zpět do @andelmusicbarplzen\, kde rozpoutáme pořádnou divočinu!&nbsp\;--Zooblasters: Kapela\, co utekla z džungle k vám na podium. Pod taktovkou electro beatů a volání divočiny jsou tahle zvířata ovlivněna mnoha hudebními žánry od západu až po východ a rozhodně vědí jak rozdovádět nejen sebe\, ale hlavně diváky. Každý si u Zooblasters najde kousek té své hudební anomálie. Uslyšíte mix hudebních stylů jako je Reggae\, Balkan\, Hip Hop\, Drum'n'Bass\, House\, EDM nebo třeba Klezmer. Se Zooblasters nezažijete jen koncert\, ale taneční párty!
LOCATION:Plzeň
END:VEVENT
END:VCALENDAR