BEGIN:VCALENDAR
VERSION:2.0
CALSCALE:GREGORIAN
PRODID:-//MyApp//Calendar 1.0//EN
BEGIN:VEVENT
METHOD:PUBLISH
UID:48798@regionalniportaly.cz
DTSTAMP:20260424T100259Z
DTSTART;VALUE=DATE:20250125
DTEND;VALUE=DATE:20250126
SUMMARY:MALALATA // Anděl music Bar
DESCRIPTION:Hudební projekt MALALATA působí na scéne už 17 let a je synonymem pro jedinečnou fůzi balkan beats\, gypsy music\, reggae a world music.Dvojice slovenských DJs spojuje tyto rytmy do osobitých setů\, které doplní o nespoutanou a nakažlivou energickou performance.Pod taktovkou MALALATA pulzovali nejen kluby po celé Evropě\, ale i ve vzdáleném Japonsku či Mexiku. Duo svoji show roztancovalo festivaly Colours of Ostrava\, Pohoda\, Grape\, Uprising a vystoupili na jednom pódiu s esami jako je Parov Stelar\, Goran Bregović\, Shantel\, Mahala\, Rai Banda či Fanfare Ciocarlia.Od roku 2011 navíc baví českou a slovenskou scénu žánrovou party Balkan Bashavel\, která si svou unikátní atmosférou získala tisíce věrných fanoušků.
LOCATION:Plzeň
END:VEVENT
END:VCALENDAR