BEGIN:VCALENDAR
VERSION:2.0
CALSCALE:GREGORIAN
PRODID:-//MyApp//Calendar 1.0//EN
BEGIN:VEVENT
METHOD:PUBLISH
UID:48606@regionalniportaly.cz
DTSTAMP:20260424T100034Z
DTSTART;VALUE=DATE:20241130
DTEND;VALUE=DATE:20241201
SUMMARY:NIXIES // PEELERS // Anděl Music Bar
DESCRIPTION:srdečně vás zveme do ANDĚL MUSIC BARU naKONCERT NIXIES &amp\; PEELERS30. 11. '2419:30 dveře20:00 startvstup: 200\,- Kč na místě\, výhodnější vstupné v předprodeji na www.smsticket.czAnděl Music Bar\, Bezručova 5-7\, Plzeň--------------NIXIESPředstavení plzeňských nixies bude nejen v duchu "NO EXIT release party" při příležitosti vydání již třetího singlu v průběhu letošního podzimu. Během večera v předpremiéře uvidíme i nový videoklip k debutovému singlu SOUL. V rámci plnohodnotného koncertního setu se kromě jiného můžeme těšit i na singlovku GONE a další autorské songy. Nixies v Andělu chystají svůj koncertní vrchol letošního roku. Očekávat můžeme i zajímavé muzikantské hosty.PEELERSTachovsko - plzeňská formace nekompromisně žhavící struny rychlých kytar zavěšených proklatě vysoko. Chcete poznat opravdovou bolest za krkem? Pak následujte ladné rytmické pohyby těchto krautových mágů na pódiu. Těšit se můžeme i na synťákové vyztužení nových songů.Vítězové hudebních klání Riversound 2022 a Můza 2023 vás řádně zahřejí v chladném listopadovém večeru.----------------Moc se na Vás těšíme!&nbsp\;&nbsp\;
LOCATION:Plzeň
END:VEVENT
END:VCALENDAR