BEGIN:VCALENDAR
VERSION:2.0
CALSCALE:GREGORIAN
PRODID:-//MyApp//Calendar 1.0//EN
BEGIN:VEVENT
METHOD:PUBLISH
UID:48583@regionalniportaly.cz
DTSTAMP:20260424T173929Z
DTSTART;VALUE=DATE:20241129
DTEND;VALUE=DATE:20241130
SUMMARY:Justin Grädes
DESCRIPTION:Justin Grädes poprvé vystoupí v Plzni ve Fénix clubu. Zazní osvědčené hity tohoto významného umělce. Po koncertě se můžete těšit na autogramiádu a na pokec s umělcem.
LOCATION:Plzeň
END:VEVENT
END:VCALENDAR