BEGIN:VCALENDAR
VERSION:2.0
CALSCALE:GREGORIAN
PRODID:-//MyApp//Calendar 1.0//EN
BEGIN:VEVENT
METHOD:PUBLISH
UID:48430@regionalniportaly.cz
DTSTAMP:20260425T035800Z
DTSTART;VALUE=DATE:20241204
DTEND;VALUE=DATE:20241205
SUMMARY:Wolf Mail
DESCRIPTION:Přímo z úspěšného australského a evropské turné navštíví blues-rocková hvězda Wolf Mail po 6ti letech znovu Česko a Slovensko\, aby zde předvedl své vášnivě nakažlivé blues\, které je oblíbené nejen v Americe\, ale také v Japonsku\, Rusku a na Středním východě.Wolf Mail je kanadský blues rockový a zpěvák. Je ovlivněn blues\, jazz\, soul a country. Narodil se v Montrealu v Kanadě\, vyrůstal v jižní Francii a Kalifornii. Mail strávil v mládí mnoho let cestováním. Začal hrát na kytaru ve věku 10 let\, nejvíce ho ovlivnili Elmore James a John Lee Hooker. Docházel na kytarové lekce k samotnému Davidu Goodmanovi a ve 14 letech vystoupil na své první štaci. Už v 17 letech odešel z domova na turné se svou vlastní kapelou.Wolf Mail je tedy původem kanadská bluesrocková kapela\, dnes působící v Austrálii\, která je doplněna o prvky jazzu\, soulu a coutry. Představila se na turné ve více jak 26 zemích. Dnes již mají ve své diskografii 9 uznávaných alb s mezinárodní distribucí.
LOCATION:Plzeň
END:VEVENT
END:VCALENDAR