BEGIN:VCALENDAR
VERSION:2.0
CALSCALE:GREGORIAN
PRODID:-//MyApp//Calendar 1.0//EN
BEGIN:VEVENT
METHOD:PUBLISH
UID:48403@regionalniportaly.cz
DTSTAMP:20260424T110229Z
DTSTART;VALUE=DATE:20241207
DTEND;VALUE=DATE:20241208
SUMMARY:Mutanti hledaj východisko
DESCRIPTION:Tam\, kde končí cesta a začíná temný les\, stála opřená o stromy malá dřevěná chaloupka. A v té bydleli Jirka s Honzou. Úplně sami. Mutanti hledaj východisko a vypráví příběhy\, které se míhají na kraji zorného pole a noří se sami do sebe. Dvojice má na kontě doposud 4 úspěšná alba\, poslední z nich nese název PUMA. Jejich koncerty jsou pověstné obrovskou energií a nezaměnitelnou pódiovou prezentací\, kterou na české scéně jen tak nepotkáte.Pod názvem Mutanti hledaj východisko vystupují dva spolužáci z pražské DAMU\, rapper a textař Jan Vejražka a Jiří Konvalinka\, který má na starost instrumentální složku (známý je též jako hráč na elektrifikované housle ve formaci Vložte kočku). Živě publikum oslovují také osobitou pódiovou prezentací ve speciálních mutantích kostýmech.&nbsp\;
LOCATION:Plzeň
END:VEVENT
END:VCALENDAR