BEGIN:VCALENDAR
VERSION:2.0
CALSCALE:GREGORIAN
PRODID:-//MyApp//Calendar 1.0//EN
BEGIN:VEVENT
METHOD:PUBLISH
UID:48325@regionalniportaly.cz
DTSTAMP:20260424T123017Z
DTSTART;VALUE=DATE:20241127
DTEND;VALUE=DATE:20241128
SUMMARY:Abeceda strachu ŽIVĚ v PLZNI
DESCRIPTION:Populárně naučný podcast poprvé na plzeňském&nbsp\;pódiu. Abeceda strachu zavítá s podcastovým turné&nbsp\;TRAUMALAND do Studijní a vědecké&nbsp\;knihovny&nbsp\;v Plzni.&nbsp\;Tématem dvouhodinové show je temná strana dětství.&nbsp\;Eduard Birke a Adam Miklica analyzují znepokojivý kontext pohádek\, zvrácené zákulisí známých dětských TV pořadů a nevhodný internetový obsah pro děti.&nbsp\;O podcastu:Dokumentární pořad Abeceda strachu je sérií epizod vedených moderátory Adamem Miklicou a Eduardem Birkem. Každý díl se věnuje jinému tématu souvisejícímu se strachem\, jako jsou záhady\, zločinné případy\, lidské fobie\, konspirační teorie\, utajované kauzy či děsivá historie. V každé epizodě se Miklica a Birke zaměřují na specifické téma a prozkoumávají ho z různých úhlů pohledu. Epizody se soustředí na temné stránky lidské psychiky a společnosti\, které vyvolávají strach a úzkost.OPEN DOOR: 17:00&nbsp\;ZAČÁTEK PROGRAMU: 18:00&nbsp\;----Během akce je možné navštívit stánek s exkluzivním merchem k turné.Pro zájemce po programu následuje meet &amp\; greet.&nbsp\;
LOCATION:Plzeň
END:VEVENT
END:VCALENDAR