BEGIN:VCALENDAR
VERSION:2.0
CALSCALE:GREGORIAN
PRODID:-//MyApp//Calendar 1.0//EN
BEGIN:VEVENT
METHOD:PUBLISH
UID:48324@regionalniportaly.cz
DTSTAMP:20260424T110218Z
DTSTART;VALUE=DATE:20241129
DTEND;VALUE=DATE:20241130
SUMMARY:X-Cover
DESCRIPTION:Děkujeme za úžasnou podporu během letních open air akcí&nbsp\;&nbsp\;a s radostí vás zveme\, přijďte s námi zažít tu jedinečnou atmosféru klubového koncertu okořeněnou novými songy. Těšíme se na vás\, pojďme si připomenout tu správnou atmosféru plzeňské Buena Visty!Open door: 19:30start: 21:00afterpartyvstup: 300 Kč
LOCATION:Plzeň
END:VEVENT
END:VCALENDAR