BEGIN:VCALENDAR
VERSION:2.0
CALSCALE:GREGORIAN
PRODID:-//MyApp//Calendar 1.0//EN
BEGIN:VEVENT
METHOD:PUBLISH
UID:48073@regionalniportaly.cz
DTSTAMP:20260424T185235Z
DTSTART;VALUE=DATE:20250623
DTEND;VALUE=DATE:20250624
SUMMARY:Hudba Taylor Swift při svíčkách
DESCRIPTION:Nenechte si ujít večer plný emocí a nezapomenutelných melodií\, kde zazní největší hity americké zpěvačky Taylor Swift. Světlo stovky svíček vytvoří magickou atmosféru tohoto jedinečného koncertu.Program v podání smyčcového kvarteta představí výběr těch nejznámějších skladeb Taylor Swift\, včetně hitů jako "Love Story"\, "Blank Space" a "Cruel Summer"\, které si získaly srdce fanoušků po celém světě.Tento koncert nabídne víc než jen hudbu\; stovky svíček rozjasní prostor a vytvoří atmosféru plnou emocí\, romantiky a kouzla písní Taylor Swift\, které vás zavedou na hudební cestu jejím světem.Akce je přístupná od 12 let. Každý účastník musí předložit platnou vstupenku&nbsp\; zakoupenou výhradně v síti SMS ticket.
LOCATION:Plzeň
END:VEVENT
END:VCALENDAR