BEGIN:VCALENDAR
VERSION:2.0
CALSCALE:GREGORIAN
PRODID:-//MyApp//Calendar 1.0//EN
BEGIN:VEVENT
METHOD:PUBLISH
UID:48065@regionalniportaly.cz
DTSTAMP:20260424T110259Z
DTSTART;VALUE=DATE:20241109
DTEND;VALUE=DATE:20241110
SUMMARY:Lucie Revival
DESCRIPTION:Přijdte si užít ten nej koncert :-)9. 11. 2024 - ČERVENÝ HRÁDEK HOSPŮDKA U ŽENÍŠKŮ - start ve 21:00.Zveme Vás na celovečerní mejdan s naší Luckou přátele @lucierevival/live&nbsp\;
LOCATION:Plzeň
END:VEVENT
END:VCALENDAR