BEGIN:VCALENDAR
VERSION:2.0
CALSCALE:GREGORIAN
PRODID:-//MyApp//Calendar 1.0//EN
BEGIN:VEVENT
METHOD:PUBLISH
UID:48057@regionalniportaly.cz
DTSTAMP:20260424T080111Z
DTSTART;VALUE=DATE:20241228
DTEND;VALUE=DATE:20241229
SUMMARY:POPs w/ Michael Viktořík # Best Of 80s & 90s
DESCRIPTION:Koncert hudební skupiny POPs s největšími hity zahraničního popu 80 a 90 let.Fandové Michaela Jacksona\, Phila Collinse\, George Michaela\, Depeche Mode\, Backstreet Boys a mnoha dalších z&nbsp\;éry 80s &amp\; 90s si určitě zapište do kalendářů datum 28. 12. 2024 a nenechte si ujít tento jedinečný koncert plný skvělé hudby\, energie a zábavy.Těšit se můžete mimojiné na speciálního hosta\, kterým je DJ\, moderátor\, showman a zpěvák kapely J.A.R. Michael Viktořík. Michael V. se postará o pořádné zakončení celého večera svojí našlápnutou afterparty.Vstupenky k dispozici i na místě: 350 KčVíce informací naleznete na www.pops.cz | www.facebook.com/popscz | www.instagram.com/pops_pilsenProgram:Opendoor: od 20:00Koncert POPs: od 21:00Afterparty s Michaelem V.: od 23:30
LOCATION:Plzeň
END:VEVENT
END:VCALENDAR