BEGIN:VCALENDAR
VERSION:2.0
CALSCALE:GREGORIAN
PRODID:-//MyApp//Calendar 1.0//EN
BEGIN:VEVENT
METHOD:PUBLISH
UID:47973@regionalniportaly.cz
DTSTAMP:20260424T080147Z
DTSTART;VALUE=DATE:20241222
DTEND;VALUE=DATE:20241223
SUMMARY:Marie Tilšarová & Kdo Jsme My - Vánoční koncert Plzeň
DESCRIPTION:Zveme vás na již tradiční vánoční koncert Marie Tilšarové\, tentokrát v krásných prostorách Buena Vista Clubu.Těšit se můžete na pár nových písní\, nějaké ty vánoční i novoroční a hlavně na spoustu radosti a úsměvů. To je víc než dárky.Tak si zapište datum a přijďte se před svátky naladit na krásnou vlnu pohody&nbsp\;Marie je autentická písničkářka s mottem „Co žiju\, zpívám\, co zpívám\, žiju“.Skládá a hraje písně s jednoduchými a chytlavými melodiemi\, které oslovují srdce a vyprávějí příběhy\, jež zná každý z nás. S kapelou tvoří super energickou partu\, která vás pobaví\, roztančí\, nadchne i dojme
LOCATION:Plzeň
END:VEVENT
END:VCALENDAR