BEGIN:VCALENDAR
VERSION:2.0
CALSCALE:GREGORIAN
PRODID:-//MyApp//Calendar 1.0//EN
BEGIN:VEVENT
METHOD:PUBLISH
UID:47843@regionalniportaly.cz
DTSTAMP:20260424T102402Z
DTSTART;VALUE=DATE:20241218
DTEND;VALUE=DATE:20241219
SUMMARY:GANS & STEVEN'S | Plzeň | Anděl
DESCRIPTION:Zveme vás na rozmanitý hudební večer v klubu Anděl\, kde vystoupí projekt GANS – nová formace složená z plzeňských hudebníků Rudolf Greig\, Ivan Audes\, Tomáš Nový a Jan Šimůnek. Kapela\, kterou vede hudební skladatel a producent Jan Šimůnek\, žijící v Londýně\, přinese živé provedení svých autorských česky psaných skladeb ve skvělých aranžích.Večer zahájí svým setem skupina Steven’s\, která loni zazářila jako hlavní hvězda stejného eventu\, kde Jan Šimůnek vystoupil akusticky. Tento rok se tedy můžete těšit na energický start od Steven’s a následný plnohodnotný koncert GANS!V průběhu večera se můžete těšit také na vystoupení speciálních hostů\, kteří celý průběh večera ještě obohatí.
LOCATION:Plzeň
END:VEVENT
END:VCALENDAR