BEGIN:VCALENDAR
VERSION:2.0
CALSCALE:GREGORIAN
PRODID:-//MyApp//Calendar 1.0//EN
BEGIN:VEVENT
METHOD:PUBLISH
UID:47831@regionalniportaly.cz
DTSTAMP:20260424T095321Z
DTSTART;VALUE=DATE:20241122
DTEND;VALUE=DATE:20241123
SUMMARY:SKYLINE | Plzeň | Anděl
DESCRIPTION:Populární elektronická parta Skyline v čele s Jakubem Bínou vyrazí na podzimní turné. 22.11. dorazí do plzeňského Anděla!Devátá deska Skyline dostala název&nbsp\;Superpowers&nbsp\;a vyjde začátkem září. Práce na albu zabrala kapele intenzivně dva roky\, a tak už se její členové nemůžou dočkat\, až nové songy zahrají konečně fanouškům naživo. Jakub Bína k&nbsp\;novému albu říká:&nbsp\;„Myslím\, že naše nová deska bude mít v klubech fantastickou odezvu. Jde totiž hodně o klubovou hudbu\, máme tam daleko víc tanečního soundu než na předešlých deskách - hlavně drum and bass.“„V koncertním setu samozřejmě nezapomeneme na ty nejzásadnější songy ze staršího repertoáru\, které mají fanoušci nejradši. Čtyři singly z nové desky už hrajeme na letních festivalech a na podzim jich ještě několik přidáme\,“&nbsp\;dodává zakladatel kapely a bubeník Radek Bureš.&nbsp\;„Na nové songy reagovali lidi na festivalech výborně\, máme z toho radost. Na desce je hned několik adeptů\, které by mohly naživo - obrazně řečeno - utrhnout klubům střechu\,“&nbsp\;doplňuje Radek Bureš.
LOCATION:Plzeň
END:VEVENT
END:VCALENDAR