BEGIN:VCALENDAR
VERSION:2.0
CALSCALE:GREGORIAN
PRODID:-//MyApp//Calendar 1.0//EN
BEGIN:VEVENT
METHOD:PUBLISH
UID:47692@regionalniportaly.cz
DTSTAMP:20260424T094518Z
DTSTART;VALUE=DATE:20241115
DTEND;VALUE=DATE:20241116
SUMMARY:Vintage Wine + Foggy Dude + Kalsarikännit v Plzni
DESCRIPTION:Nabušenej pražskej folk-punk už nebude ke slyšení jenom v Praze - spřátelené kapely Vintage Wine\, Foggy Dude a Kalsarikännit ho v rámci Devil's Craic Tour přivezou i do Plzně! A to si přece nemůžete nechat ujít...
LOCATION:Plzeň
END:VEVENT
END:VCALENDAR