BEGIN:VCALENDAR
VERSION:2.0
CALSCALE:GREGORIAN
PRODID:-//MyApp//Calendar 1.0//EN
BEGIN:VEVENT
METHOD:PUBLISH
UID:47557@regionalniportaly.cz
DTSTAMP:20260424T100242Z
DTSTART;VALUE=DATE:20241211
DTEND;VALUE=DATE:20241212
SUMMARY:Pocta Zuzaně Navarové | Plzeň | Anděl Music Bar
DESCRIPTION:Kapela Pocta Zuzaně Navarové v Plzni!A to v příjemném a velmi přátelském Klubu Anděl Music Bar.Písně od kapel Nerez i Koa zazní v podání šestičlenné sestavy v čele s Bárou Červinkovou.Kapela už 8 let jezdí po celé republice a sklízí velké úspěchy svou osobitostí a zároveň dovedností připodobnit se originálu.“Snažíme o co nejvěrnější podání písniček\, k autorům chováme velký respekt a s některými jsme i přátelé. Je smutné\, že tu Zuzka není a ty písničky si zaslouží žít dál. Vše děláme s velkou pokorou a láskou.”Přijďte si poslechnout své oblíbené písničky\, zavzpomínat si a třeba i zazpívat a zatančit.Barbora Červinková - zpěv\, perkuseTonda Jína - zpěv\, bicí\, perkuseTomáš Pecka - zpěv\, kytary\, cello\, pianoNick Arthofer - zpěv\, trubkaHonza Neruda - zpěv\, basaStanda Šedivý - zpěv\, kytara
LOCATION:Plzeň
END:VEVENT
END:VCALENDAR