BEGIN:VCALENDAR
VERSION:2.0
CALSCALE:GREGORIAN
PRODID:-//MyApp//Calendar 1.0//EN
BEGIN:VEVENT
METHOD:PUBLISH
UID:47273@regionalniportaly.cz
DTSTAMP:20260424T122827Z
DTSTART;VALUE=DATE:20241123
DTEND;VALUE=DATE:20241124
SUMMARY:UNDERDAWGS II
DESCRIPTION:UNDERDAWGS 2:&nbsp\;Povstali z popela a s nima celá plzeňská rapová scéna. Plzeň má co říct.. To město se nemusí koukat po okolí\, protože má to svoje. UNDERDAWGS: žádná Praha\, Brno nebo Ostrava. Mejdan jak vínko načnutej tequilou\, rapem a 12kou. 23.11.2024 -&nbsp\;Pretty Kitty B&nbsp\;&amp\;&nbsp\;Il Guappo\,&nbsp\;ci5\,&nbsp\;Poyd&nbsp\;&amp\;&nbsp\;Ony\,&nbsp\;Steff&nbsp\;&amp\;&nbsp\;Parly.DJs:&nbsp\;Yan&nbsp\;&amp\; Lanparties
LOCATION:Plzeň
END:VEVENT
END:VCALENDAR