BEGIN:VCALENDAR
VERSION:2.0
CALSCALE:GREGORIAN
PRODID:-//MyApp//Calendar 1.0//EN
BEGIN:VEVENT
METHOD:PUBLISH
UID:47184@regionalniportaly.cz
DTSTAMP:20260424T211944Z
DTSTART;VALUE=DATE:20250323
DTEND;VALUE=DATE:20250324
SUMMARY:Slavné filmové melodie světové i české
DESCRIPTION:Pojďte si užít zbrusu nové nastudování krásných filmových melodií českých a zahraničních s přesahem do muzikálů a dalších žánrů&nbsp\;do vytápěného nádherného funcionalistického sálu plzeňské Betlémské kaple&nbsp\;Kvinteto Dobře naladěniAnna Pacvoňová – housle\, Jana Hachranová – flétna\,&nbsp\;Jana Rambousková - klavír\, Jan Čoňka - kytara\, Václav Hořák - kontrabas/baskytara.PROGRAM:BOND – Golden eyeLIMONÁDOVÝ JOEPANNA A NETVORADÉLA JEŠTĚ NEVEČEŘELADotýkat se hvězdTAJEMSTVÍ HRADU V KARPATECHPELÍŠKY – Slunečný hrobFANTOM OPERYZRODILA SE HVĚZDA – In the shallowSCHINDLERŮV SEZNAMCHICAGO – Hot honey ragTENKRÁT NA ZÁPADĚBOND – You only live twiceSTAR WARS – Theme songVZPOMÍNKY NA AFRIKUHAIR – Manchester\, EnglandDUCH – Righenous BrothersNĚKDO TO RÁD HORKÉROCKET MANANGELIKAABSOLVENT – Sound of silencedélka programu cca 65 minut\, změna programu vyhrazenaUkázka: https://youtu.be/bdSUw3vyjH0?si=PkVyDvtL7iha-SlU
LOCATION:Plzeň
END:VEVENT
END:VCALENDAR