BEGIN:VCALENDAR
VERSION:2.0
CALSCALE:GREGORIAN
PRODID:-//MyApp//Calendar 1.0//EN
BEGIN:VEVENT
METHOD:PUBLISH
UID:47098@regionalniportaly.cz
DTSTAMP:20260424T110416Z
DTSTART;VALUE=DATE:20241116
DTEND;VALUE=DATE:20241117
SUMMARY:Robin Zoot | PONYA AFTER 2024 | Anděl Plzeň
DESCRIPTION:Po více jak deseti letech produktivní tvorby má Robin silně utvrzenou pozici v hudebním průmysluSpoluzaložil úspěšný label Milion+ - pod kterým vydává2023 byl nominovaný na cenách Anděl za desku - kategorie rap (top 3)Vyhrál album roku 2023 - Cen Óčko Black AwardsVyhrál klip roku 2024 - Cen Óčko Black AwardsNa kontě má několik alb\, ocenění\, i featů například s Viktorem Sheenem\, Yzomandiasem apod.V lednu letošního roku vyšla deska PONYA (která je platinová) a jelo se s ní úspěšné jarní turné a v rámci PONYA after tour zavítáme i do Plzně&nbsp\;Máme připravený i nový festivalový stagedesign (orange v barvách poslední platinové desky) pro rok 2024\, na r. 2025 připravujeme opět něco speciálního.Předposlední deska Make Sudety - je také oceněná platinou a známý singl Givenchy je už 2x platinový.20:00 VIP Meet&amp\;Greet21:00 Doors22:00 Show ROBIN ZOOT
LOCATION:Plzeň
END:VEVENT
END:VCALENDAR