BEGIN:VCALENDAR
VERSION:2.0
CALSCALE:GREGORIAN
PRODID:-//MyApp//Calendar 1.0//EN
BEGIN:VEVENT
METHOD:PUBLISH
UID:46804@regionalniportaly.cz
DTSTAMP:20260424T190721Z
DTSTART;VALUE=DATE:20250124
DTEND;VALUE=DATE:20250125
SUMMARY:AC/CZ "Top AC/DC tribute show" v PLZNI
DESCRIPTION:Nejúspěšnější AC/DC tribute kapela nejen v České republice\, kritiky uznávaná jako jedna z nejlepších i v zahraničí. Kapela působí na scéně od prosince roku 2010 a má za sebou přes 1200 vystoupení. Pravidelně koncertuje nejen v České republice\, ale také Slovensku\, Polsku\, Rakousku\, Švýcarsku a především v Německu. V roce 2024 kapela vystoupila pro prezidenta České republiky v rámci pořadu České televize\, v Německém Lipsku na UEFA EURO 2024 jako jediná česká kapela ve fan zóně pro několik tisíc lidí a také na "Velké ceně Německa MotoGP" v Sachsenringu.Zpěvák kapely AC/CZ Josef Šimún je pravidelným hostem světového projektu orchestru Lords of the sound:&nbsp\;www.highwaytosymphony.com.&nbsp\;Můžete se těšit na velkou divadelní a koncertní show s originálními kostýmy\, nástroji\, kulisami a hlavně precizní interpretací těch největších hitů od AC/DC.Hlavním protagonistou je známý kytarista Adam Malík:&nbsp\;www.adammalik.cz
LOCATION:Plzeň
END:VEVENT
END:VCALENDAR