BEGIN:VCALENDAR
VERSION:2.0
CALSCALE:GREGORIAN
PRODID:-//MyApp//Calendar 1.0//EN
BEGIN:VEVENT
METHOD:PUBLISH
UID:46512@regionalniportaly.cz
DTSTAMP:20260424T081625Z
DTSTART;VALUE=DATE:20241101
DTEND;VALUE=DATE:20241102
SUMMARY:ANYMEN:  Buena Vista Club (Plzeň)
DESCRIPTION:ANYMEN - finské pětičlenné dívčí trio ze Švédska a jejich koncert plný tvrdých riffů\, drivu a energie...Kdo máte rádi Faith No More\, System Of A Down\, Rage Against The Machine\, U2\, Pearl Jam\, Audioslave\, Royal Republic a další...nesmíte chybět!!!Opendoor: 20:30Koncert: 21:00www.anymen.cz
LOCATION:Plzeň
END:VEVENT
END:VCALENDAR