BEGIN:VCALENDAR
VERSION:2.0
CALSCALE:GREGORIAN
PRODID:-//MyApp//Calendar 1.0//EN
BEGIN:VEVENT
METHOD:PUBLISH
UID:46465@regionalniportaly.cz
DTSTAMP:20260424T122533Z
DTSTART;VALUE=DATE:20241025
DTEND;VALUE=DATE:20241026
SUMMARY:Decline & Lety Mimo | Plzeň | Anděl
DESCRIPTION:Decline:Oblíbená klubová kapela Decline hlásí návrat. A rovnou s novým albem. Skupina\, která si renomé na českých pódiích vydobyla svébytnými coververzemi The Cure a Depeche Mode\, ale zároveň se v nultých letech na chvilku ohřála na popovém výsluní\, se nyní vrací ke svým temnějším kořenům s albem Circle of Dust. Živě předvede svůj mix tepající elektroniky a kytar ostřejších než kdy dříve\, posluchače však neochudí o připomínku svých interpretací fanoušky oblíbených hitů.Lety mimo:Kapela Lety Mimo se zformovala již v dobách porevoluční euforie a za tu dobu si vytvořila svůj nezaměnitelný sound. V poslední době o sobě LM dali opět výrazně vědět\, když na svém kontě zaznamenali rekordní počet koncertů a festivalů\, se stoupající návštěvností. Lety Mimo tvoří zpěvák a baskytarista Looky\, kytarista a kapelník Cvanc a na bicí hrající Lukáš Maštěnka Fuchs. Tvorba LM je založena na kvalitních českých textech\, nabroušených kytarách a elektronických samplech jako doplnění jejich syrového zvuku.&nbsp\;
LOCATION:Plzeň
END:VEVENT
END:VCALENDAR