BEGIN:VCALENDAR
VERSION:2.0
CALSCALE:GREGORIAN
PRODID:-//MyApp//Calendar 1.0//EN
BEGIN:VEVENT
METHOD:PUBLISH
UID:46352@regionalniportaly.cz
DTSTAMP:20260424T110327Z
DTSTART;VALUE=DATE:20241020
DTEND;VALUE=DATE:20241021
SUMMARY:Pohádková stezka / PLZEŇ
DESCRIPTION:Nejoblíbenější pohádková stezka míří do Plzně!Potkáte všechny nejoblíbenější pohádkové postavičky.&nbsp\;&nbsp\;Na trase můžete potkat spoustu kamarádů z různých pohádek\, jako jsou hrdinové z Tlapkové patroly\, Ledového království a mnoho dalších oblíbených postav\, které vaše děti milují ♥Pohádkoví kamarádi se střídají\, takže každá návštěva je jedinečná!Nenechte si ujít tento jedinečný pohádkový zážitek s Vašimi dětmi. Na konci na Vás bude čekat truhla s odměnou🥇Vhodné pro děti 3 - 8 let⏰ Čas: Na Vaši zakoupené vstupence naleznete Váš start📅 Den: 20.10.2024📍 Místo: Park Homolka🏳 Start: https://maps.app.goo.gl/KVMFuXep6mD4unMt7💶 Startovné:&nbsp\;👶🏻 🧑🏻 Vstupenka - 150 Kč&nbsp\;Každý účastník musí mít svou vlastní vstupenku -&nbsp\; cena vstupenek je shodná pro děti i dospělé.(Zdarma - děti do 18&nbsp\;měsíců\, ZTP\, ZTP/P)Při příchodu se prosím zaregistrujte ve stánku.&nbsp\;
LOCATION:Plzeň
END:VEVENT
END:VCALENDAR