BEGIN:VCALENDAR
VERSION:2.0
CALSCALE:GREGORIAN
PRODID:-//MyApp//Calendar 1.0//EN
BEGIN:VEVENT
METHOD:PUBLISH
UID:46313@regionalniportaly.cz
DTSTAMP:20260424T080706Z
DTSTART;VALUE=DATE:20241018
DTEND;VALUE=DATE:20241019
SUMMARY:Five leaf Clover křtí nové album
DESCRIPTION:Je to tady! Křest 3. studiového alba.Máme nahráno a vy se můžete začít těšit.&nbsp\;Za měsíc projedeme republikou se zbrusu novým albem Near Sea Experience.A k tomu navíc z Německa přivezeme The Distillery Rats.My už se nemůžeme dočkat\, tak si rezervujte termíny!&nbsp\;
LOCATION:Plzeň
END:VEVENT
END:VCALENDAR