BEGIN:VCALENDAR
VERSION:2.0
CALSCALE:GREGORIAN
PRODID:-//MyApp//Calendar 1.0//EN
BEGIN:VEVENT
METHOD:PUBLISH
UID:46230@regionalniportaly.cz
DTSTAMP:20260424T103214Z
DTSTART;VALUE=DATE:20241013
DTEND;VALUE=DATE:20241014
SUMMARY:Svatební korzování Plzeň
DESCRIPTION:Tentokrát KORZUJEME už v říjnu 💛 Svatební korzování je moderní a originální svatební veletrh\, který nabízí inspiraci\, svatební místa a dodavatele s hlavním zaměřením na sezónu 2025/ 2026.
LOCATION:Plzeň
END:VEVENT
END:VCALENDAR