BEGIN:VCALENDAR
VERSION:2.0
CALSCALE:GREGORIAN
PRODID:-//MyApp//Calendar 1.0//EN
BEGIN:VEVENT
METHOD:PUBLISH
UID:46083@regionalniportaly.cz
DTSTAMP:20260424T123116Z
DTSTART;VALUE=DATE:20250402
DTEND;VALUE=DATE:20250403
SUMMARY:DVA | Plzeň | Anděl
DESCRIPTION:DVA (Jan Kratochvíl a Barbora Ungerová) si za 18let působení na české i mezinárodní scéně našli své pevné místo a s radostí oznamujeme návrat na andělské pódium!&nbsp\;Kapela přesahuje hranice zavedených hudebních žánrů a doslova mluví svým vlastním jazykem\, kterému rozumí jen ona sama\, přesto i proto si dokázala získat mnoho fanoušků po celém světě.Duo vzešlo v roce 2006 z Divadla DNO\, ve kterém oba jeho členové dříve působili. První studiové album Fonók vyšlo v roce 2008 a přineslo kapele první nadšené ohlasy nejen na české hudební scéně. Za navazující album HU (2010) získali ocenění Anděl v kategorii alternativní hudba. Jejich třetí studiová deska Nipomo (2014) vyšla v USA pod nezávislým labelem Northern Spy a v rámci turné k ní kapela během dvou let procestovala celou Evropu\, USA\, Austrálii a Nový Zéland.V letech 2016-2021 se duo intenzivně věnovalo hudbě a zvukovému zpracování počítačových her. S herním studiem Amanita Design spolupracovali už na hře Botanicula (2012)\, za hudbu k této hře získali “herního oscara” Excellence in Audio Award IGF v San Franciscu. S Amanitou Design dále pracovali na hrách Chuchel (2018) a Happy Game (2021). Podíleli se i na hudbě ke hrám Attentat 1942 a Svoboda 1945:Liberation od herního studia Charles Games\, které za obě díla získalo také řadu ocenění.V roce 2023 se kapela Dva vrátila k živému hraní a ve studiu Jámor natočila čtvrté studiové album Piri Piri\, na kterém s kapelou spolupracoval britský producent Timothy London\, který dřívě produkoval například několik desek kapely Yound Fathers.Nová deska Dva Piri Piri vychází 13.září 2024 na LP a CD a 3.října proběhne koncert v Plzni v Anděl music baru!
LOCATION:Plzeň
END:VEVENT
END:VCALENDAR