BEGIN:VCALENDAR
VERSION:2.0
CALSCALE:GREGORIAN
PRODID:-//MyApp//Calendar 1.0//EN
BEGIN:VEVENT
METHOD:PUBLISH
UID:46009@regionalniportaly.cz
DTSTAMP:20260424T094442Z
DTSTART;VALUE=DATE:20241107
DTEND;VALUE=DATE:20241108
SUMMARY:DELORAINE + Żniwa (PL)\, PLZEŇ
DESCRIPTION:Česká paganfolková skupina Deloraine v Plzni.A tentokrát v prostorné Šeřikovce\, a tedy se vší parádou. Dvouhodinový divoký pohanský koncert\, vědma\, tanečnice\,&nbsp\;rituály a pohanská božstva.Bude se tančit a bude se zpívat.Jako předkapela vystoupí talentované polské multiinstrumentální pohanské duo Żniwa.VSTUPENKY:Předprodej Smsticket do 30.9.2024: 499 Kč (sleva Mabonu)Předprodej Smsticket od 01.10.2024 do dne akce:&nbsp\;550&nbsp\;KčNa místě v den konání akce:&nbsp\;599&nbsp\;KčŽivá vystoupení Deloraine jsou plná pohanských tanců\, tajemných rituálů a nekonečného proudu energie. Užijete si mocné hlasy\, zvuk mnoha etnických a exotických nástrojů a show ve výjimečných kostýmech.Vše na pódiu doprovodí rohatá vědma z klipu Ragnarok\, temné severské norny\, pohanský bůh Cernunnos\, rituály a krásné tanečnice.V písních se kapela zabývá tématy z fantasy literatury\, mnoho písní je ze světa světa Zaklínače (Zaklínač\, Yennefer\, Nilfgaard\, Srdce z kamene)&nbsp\;mýtů a ság z dávných keltských\, slovanských a severských pohanských dob\, jako třeba Ragnarok a Sabat.
LOCATION:Plzeň
END:VEVENT
END:VCALENDAR