BEGIN:VCALENDAR
VERSION:2.0
CALSCALE:GREGORIAN
PRODID:-//MyApp//Calendar 1.0//EN
BEGIN:VEVENT
METHOD:PUBLISH
UID:46005@regionalniportaly.cz
DTSTAMP:20260424T122259Z
DTSTART;VALUE=DATE:20241213
DTEND;VALUE=DATE:20241214
SUMMARY:Queens of Bohemia
DESCRIPTION:Na populární Pilsen Queen Tribute Band navazuje kapela&nbsp\;Queens Of Bohemia\, ve které působí tři její původní členové - Filip Nováček (zpěv)\, Martin Petrášek (basa) a Michal Rajtmajer (kytara) a také nově příchozí - Ondřej Muller (bicí) a Jakub Šmaus (klávesy). Navazuje na období\, kdy v letech 2008 - 2019 odehrála v klubu Buena Vista desítky vyprodaných koncertů\, které zvláště v období předvánočním měli vždy skvělou atmosféru.Po čtyřech letech tak v&nbsp\;Buena Vistě&nbsp\;zazní všechny zásadní hity skupiny Queen i Freddieho Mercuryho a určitě dojde na nějaké to překvapení :)
LOCATION:Plzeň
END:VEVENT
END:VCALENDAR