BEGIN:VCALENDAR
VERSION:2.0
CALSCALE:GREGORIAN
PRODID:-//MyApp//Calendar 1.0//EN
BEGIN:VEVENT
METHOD:PUBLISH
UID:45849@regionalniportaly.cz
DTSTAMP:20260424T110435Z
DTSTART;VALUE=DATE:20241107
DTEND;VALUE=DATE:20241108
SUMMARY:Vtípečky v Plzni // stand-up show
DESCRIPTION:Vtípečky se zelím přináší ty nejvypečenější komiky nové generace. Pětice vystupujících vám naservíruje to nejčerstvější\, co napekli za poslední dobu.&nbsp\;Své vtipy jako na podnose přinesou:(Brzy)&nbsp\;Těšíme se na vás&nbsp\;Komediální skupinu Vtípečky se zelím založili v roce 2022 Ondřej Cabal a Aleš Pitrmoc. Jejím cílem je shromažďovat začínající komiky a kolektivně rozvíjet řemeslo stand upu. V tom jim pomáhají také známí a zkušení komici Jiří Jakima a Tigran Hovakimyan.
LOCATION:Plzeň
END:VEVENT
END:VCALENDAR