BEGIN:VCALENDAR
VERSION:2.0
CALSCALE:GREGORIAN
PRODID:-//MyApp//Calendar 1.0//EN
BEGIN:VEVENT
METHOD:PUBLISH
UID:45591@regionalniportaly.cz
DTSTAMP:20260424T122701Z
DTSTART;VALUE=DATE:20241102
DTEND;VALUE=DATE:20241103
SUMMARY:Život v radosti - Sandra Pogodová a Tomáš Lukavec / beseda
DESCRIPTION:ŽIVOT V RADOSTI -&nbsp\; Besedování Sandry Pogodové a Tomáše LukavceInspirativní povídání hudebně doladí Standa Klapuch.&nbsp\;Těšit se můžete na inspirativní povídání Sandry Pogodové a Tomáše Lukavce. Dozvíte se o jejich zážitcích z cest a pobytů v Thajsku\, Tibetu\, na Srí Lance nebo v poušti. Sdílení a poučení z osobních příběhů ze života a&nbsp\;vzájemné inspirování se na cestě k duchovním přeměnám. Hlavně vše s humorem a nadhledem\, tak jak je těmto dvěma úžasňákům vlastní.&nbsp\;Besedy hudebně doladí ostravský skladatel\, muzikant - hudební astronaut Standa Klapuch.více ina webu:&nbsp\;https://www.takjinak.cz/zivotvradosti/&nbsp\;VSTUPENKY:3.-4. a&nbsp\;7.-18. řada&nbsp\; cena&nbsp\;490 KčOstatní řady v prodeji zde:https://takjinak.reenio.cz/cs/#/term/P963163/2024-11-02\;viewMode=day
LOCATION:Plzeň
END:VEVENT
END:VCALENDAR