BEGIN:VCALENDAR
VERSION:2.0
CALSCALE:GREGORIAN
PRODID:-//MyApp//Calendar 1.0//EN
BEGIN:VEVENT
METHOD:PUBLISH
UID:45333@regionalniportaly.cz
DTSTAMP:20260424T080136Z
DTSTART;VALUE=DATE:20240830
DTEND;VALUE=DATE:20240831
SUMMARY:Feels like heaven ROOFTOP PARTY
DESCRIPTION:Zveme vás na parádní&nbsp\;FEELS LIKE HEAVEN ROOFTOP PARTY\, která proběhne na exkluzivním místě\, jakým je TERRAZA&nbsp\;na střeše známého hotelu Central na náměstí Republiky v Plzni. Z tohoto rooftopu máte výhled na celé nejvýznamnější náměstí města včetně historických památek\, například katedrálu svatého Bartoloměje a plzeňskou radnici. Na pozadí těchto dominant nám zahraje svůj elektronický mix známý plzeňský DJ&nbsp\;Bodymovin a jako host převezme mixážní pult skvělá&nbsp\;DJ ALEX&nbsp\;z Prahy. Abyste se v podniku TERRAZA cítili jako v nebi\, bude v ceně vstupenky malý raut a welcome drink. K dispozici je pak bohatě zásobený bar přímo na terase i uvnitř podniku. Vzhledem k umístění podniku přímo v srdci historického centra Plzně bude párty ukončena o půlnoci. Ideální start pátečního večera posledního prázdninového víkendu.&nbsp\;Kapacita je omezena na 100 návštěvníků proto neváhejte s koupí vstupenky v předprodeji a buďte našimi VIP hosty.&nbsp\;Dj Bodymovin:40 letý Dj z Plzně\, který nesmí chybět na žádné dobré párty!Je tu s námi na scéně přes dvacet let a to s přední deejayskou i rapovou scénou.Jeho energický a dynamický mix a práce s danceflorem je jen jen špička ledovce toho proč je tolik oblíbeným djeem!Přijďte&nbsp\;se přesvědčit sami!Hrát bude Rnb/Techhouse/Garage/House
LOCATION:Plzeň
END:VEVENT
END:VCALENDAR