BEGIN:VCALENDAR
VERSION:2.0
CALSCALE:GREGORIAN
PRODID:-//MyApp//Calendar 1.0//EN
BEGIN:VEVENT
METHOD:PUBLISH
UID:45293@regionalniportaly.cz
DTSTAMP:20260424T212209Z
DTSTART;VALUE=DATE:20241016
DTEND;VALUE=DATE:20241017
SUMMARY:Pekař - (Ne)Obyčejné tour
DESCRIPTION:
LOCATION:Plzeň
END:VEVENT
END:VCALENDAR