BEGIN:VCALENDAR
VERSION:2.0
CALSCALE:GREGORIAN
PRODID:-//MyApp//Calendar 1.0//EN
BEGIN:VEVENT
METHOD:PUBLISH
UID:45291@regionalniportaly.cz
DTSTAMP:20260424T111314Z
DTSTART;VALUE=DATE:20250224
DTEND;VALUE=DATE:20250225
SUMMARY:VIVALDI - Čtvero ročních dob
DESCRIPTION:Nenechte si ujít jedinečný koncert\, kde zazní nesmrtelné dílo klasické hudby – Čtvero ročních dob&nbsp\;od italského skladatele Antonia Vivaldiho. Tento výjimečný večer nabídne podání smyčcového&nbsp\;kvartetu\, který přenese posluchače do světa Vivaldiho hudební magie.Těšte se na neopakovatelnou atmosféru koncertní síně naplněné očekáváním\, kde vás zvuky smyčccových nástrojů&nbsp\;zavedou do krásného světa přírodních cyklů\, jak je zachytil mistr Vivaldi. V tomto provedení kvartetu zažijete jarní svěžest\, letní radost\, podzimní klid i zimní mrazivou krásu.Tento koncert nabídne víc než jen hudbu. Sál ozáří stovky svíček\, které vytvoří magickou atmosféru a dokonale doplní Vivaldiho mistrovské dílo. Spojení hudby a světla zajistí nezapomenutelný večer plný emocí.
LOCATION:Plzeň
END:VEVENT
END:VCALENDAR