BEGIN:VCALENDAR
VERSION:2.0
CALSCALE:GREGORIAN
PRODID:-//MyApp//Calendar 1.0//EN
BEGIN:VEVENT
METHOD:PUBLISH
UID:45076@regionalniportaly.cz
DTSTAMP:20260424T110249Z
DTSTART;VALUE=DATE:20241114
DTEND;VALUE=DATE:20241115
SUMMARY:Blue Burlesque Show: GLAMOUR
DESCRIPTION:Buď součástí&nbsp\;největší burleskní tour v dějinách Česka. Blue Burlesque Show se po letní přestávce vrácí do Plzně a to do milované Papírny.&nbsp\;Můžeš se těšit na show plnou elegance\, krásných kostýmů\, umění a neuvěřitelných emoci\, který se bude řídit heslem Burlesque your life!&nbsp\;Nezbedná koketní atmosféra Blue Burlesque Show vás bude držet na okraji vašich židlí od začátku až do konce show. Uvidíte nejlepší kabaretní a burleskní perfomery\, přenesete se do třpytivého světa burlesky\, která v poslední době zažívá neuvěřitelnou vlnu popularity.Tuhle show prostě musíš vidět!DRESSCODE:&nbsp\;dress to impress! Fantazii se meze nekladou.Doors: 19h. Show začne ve 19.30h. Přijdte včas - volné sezení v rámci sekce.Show má cca 120-150 min.Blue Burlesque Show má tři části - o pauze (každá cca. 20 min) si můžete objednat další drinky\, jít ven na cigaretu nebo koupit něco krásného na našem stánku s merchem.Po show se můžete vyfotit s performery a sdělit nám\, jak se vám show líbila.VSTUPENKY předprodej/plná cenaVIP&nbsp\;- nejlepší sezení u pódia s jmenovkou a u VIP stolů. Jako dárek máme pro Tebe plakát&nbsp\;Zorya Blue s věnováním. Cena: 1190/1290&nbsp\;KčGOLD&nbsp\;- sezení ve zlatém sektoru s jmenovkou. Jako dárek máme pro Tebe podepsaný plakát Burlesque Your Life. Cena: 890/990 KčBLUE - sezení v modrém sektoru. Místa nejsou číslovana. Cena: 590-690 KčMísto:klub&nbsp\;Papírna Plzeň\, Zahradní 2Více o produkci na&nbsp\;zoryablue.com
LOCATION:Plzeň
END:VEVENT
END:VCALENDAR