BEGIN:VCALENDAR
VERSION:2.0
CALSCALE:GREGORIAN
PRODID:-//MyApp//Calendar 1.0//EN
BEGIN:VEVENT
METHOD:PUBLISH
UID:44711@regionalniportaly.cz
DTSTAMP:20260424T185611Z
DTSTART;VALUE=DATE:20250316
DTEND;VALUE=DATE:20250317
SUMMARY:Grande Moravia – Tenkrát na západě
DESCRIPTION:Dokonale vybroušený program nejlákavějších filmových melodií Ennia Morriconeho hraje znamenitý orchestr GRANDE MORAVIA Ladislava Pavluše.Celkový dojem z koncertu je navíc umocněn kouzelnými tóny cimbálu a VIDEOPROJEKCÍ.Výjimečnost hudby Ennia Morriconeho tkví v tom\, že ji chcete poslouchat stále a stále\, pokaždé vás nadchne a najdete v ní něco nového.Podrobnější informace naleznete na&nbsp\;www.grandemoravia.cz
LOCATION:Plzeň
END:VEVENT
END:VCALENDAR