BEGIN:VCALENDAR
VERSION:2.0
CALSCALE:GREGORIAN
PRODID:-//MyApp//Calendar 1.0//EN
BEGIN:VEVENT
METHOD:PUBLISH
UID:44706@regionalniportaly.cz
DTSTAMP:20260424T103931Z
DTSTART;VALUE=DATE:20241026
DTEND;VALUE=DATE:20241027
SUMMARY:SHOW MEN4QUEEN - PLZEŇ
DESCRIPTION:Nový koncept pánské strip show vás pobaví i nadchneJste odvážná a máte ráda zábavu?&nbsp\;Tak právě pro vás je&nbsp\;exkluzivní celovečerní klubové &nbsp\;představení pánské taneční skupiny MEN4QUEEN\, kde prožijete nezapomenutelný večer plný vášně\, tance\, potěšení pro dámské oko a hlavně zážitek\, na který už nikdy nezapomenete.&nbsp\;&nbsp\;Zapomeňte na klasické zastaralé lascivní show bez nápadu nebo ducha. Tento nový projekt představuje exkluzivní pánskou show na evropské úrovni. Žádná laciná „svlíkačka“! Čeká vás strhující 90minutové představení\, které vás nenechá v klidu. Nejenže uvidíte nádherná muskulaturní těla tanečníků\, ale také nebezpečné akrobacie\, tanec a zažijete mrazivou vášeň a potěšení! To je jinými slovy MEN4QUEEN STRIP SHOW.&nbsp\;Men4Queen je mezinárodní tým tanečníků\, jehož posláním je zboření mýtů o vnímání pánského striptýzu jakožto vulgární a laciné podívané. Snaží se je posunout směrem k umění a divadlu. A to se jim daří!&nbsp\;&nbsp\;V rámci této nevšední zážitkové show můžete očekávat nejen bezpečné a působivé prostředí pro oslavu ženské síly a krásy\, ale také právě kvalitní standup\, emotivní choreografie nebo jedinečné hosty\, kteří dodají show další rozměr a nezapomenutelnou atmosféru.&nbsp\;&nbsp\;&nbsp\;Vstupenky:DIAMOND&nbsp\;- exkluzivní sezení u pódia s jmenovkou a s vlastním stolem DIAMOND\, kalendář men4queen A3\, podpisové kartičky\, kalendář do kapsy.GOLD&nbsp\;- sezení v sektoru vyznačeném GOLD ( welcome drink\, slevový voucher 20% na nákup věcí Men4Queen\, sezení v předních řadách u pódia )SILVER&nbsp\;- sezení v sektoru vyznačeném SILVER ( slevový voucher 10% na nákup věcí Men4Queen)BRONZE&nbsp\;- sezení v sektoru vyznačeném BRONZE ( základní vstupenka )&nbsp\;
LOCATION:Plzeň
END:VEVENT
END:VCALENDAR