BEGIN:VCALENDAR
VERSION:2.0
CALSCALE:GREGORIAN
PRODID:-//MyApp//Calendar 1.0//EN
BEGIN:VEVENT
METHOD:PUBLISH
UID:44705@regionalniportaly.cz
DTSTAMP:20260424T094542Z
DTSTART;VALUE=DATE:20240727
DTEND;VALUE=DATE:20240728
SUMMARY:Концерт Олега Кензова
DESCRIPTION:Популярный Украинский певец Олег Кензов даст концерт в городе Plzeň.&nbsp\;Выступление состоится |27.07|&nbsp\;в&nbsp\;22:00.&nbsp\;Dance Club&nbsp\;Bilej Medved&nbsp\;Prokopova 336\, 301 00 Plzeň 3
LOCATION:Plzeň
END:VEVENT
END:VCALENDAR